BEGIN:VCALENDAR
VERSION:2.0
PRODID:-//hacksw/handcal//NONSGML v1.0//EN
BEGIN:VEVENT
SUMMARY:Saint-Maurice-L'Exil vs SF
UID:66985fac-e62a-4f74-b2e2-487cf6e9baf4
DTSTART:20260530T190000Z
DTEND:20260530T220000Z
LOCATION:Localisation   
CATEGORIES:Sportif
STATUS:
URL;VALUE=URI:https://www.hbca07.fr/evenements/2026/05/30/saint-maurice-lexil-vs-sf-2443118
END:VEVENT
END:VCALENDAR
