BEGIN:VCALENDAR
VERSION:2.0
PRODID:-//hacksw/handcal//NONSGML v1.0//EN
BEGIN:VEVENT
SUMMARY:HBC Pilat vs SM2
UID:84b6c2f4-2abd-4e47-ae0e-04f516f6c384
DTSTART:20260523T160000Z
DTEND:20260523T220000Z
LOCATION:Localisation   
CATEGORIES:Sportif
STATUS:
URL;VALUE=URI:https://www.hbca07.fr/evenements/2026/05/23/hbc-pilat-vs-sm2-2443114
END:VEVENT
END:VCALENDAR
