BEGIN:VCALENDAR
VERSION:2.0
PRODID:-//hacksw/handcal//NONSGML v1.0//EN
BEGIN:VEVENT
SUMMARY:-13F vs Voiron
UID:f8cdf377-71b5-43a4-81bb-dca5af8c0b6c
DTSTART:20260510T103000Z
DTEND:20260510T220000Z
LOCATION:Localisation   
CATEGORIES:Sportif
STATUS:
URL;VALUE=URI:https://www.hbca07.fr/evenements/2026/05/10/13f-vs-voiron-2443091
END:VEVENT
END:VCALENDAR
