BEGIN:VCALENDAR
VERSION:2.0
PRODID:-//hacksw/handcal//NONSGML v1.0//EN
BEGIN:VEVENT
SUMMARY:-18F vs Montelimar
UID:4136c934-6003-404e-bb4c-7e54a3e1bd40
DTSTART:20260509T140000Z
DTEND:20260509T220000Z
LOCATION:Gymnase du Zodiaque 18 Avenue Jean Moulin 07100 Annonay
CATEGORIES:Sportif
STATUS:
URL;VALUE=URI:https://www.hbca07.fr/evenements/2026/05/09/18f-vs-montelimar-2443097
END:VEVENT
END:VCALENDAR
