BEGIN:VCALENDAR
VERSION:2.0
PRODID:-//hacksw/handcal//NONSGML v1.0//EN
BEGIN:VEVENT
SUMMARY:-15F vs Chaponnay
UID:08f37b77-d40f-4cc3-9569-50ccfc61574b
DTSTART:20260509T120000Z
DTEND:20260509T220000Z
LOCATION:Gymnase du Zodiaque 18 Avenue Jean Moulin 07100 Annonay
CATEGORIES:Sportif
STATUS:
URL;VALUE=URI:https://www.hbca07.fr/evenements/2026/05/09/15f-vs-chaponnay-2443094
END:VEVENT
END:VCALENDAR
