BEGIN:VCALENDAR
VERSION:2.0
PRODID:-//hacksw/handcal//NONSGML v1.0//EN
BEGIN:VEVENT
SUMMARY:-15M vs Tain/Vion/Tournon
UID:f8f0ce29-6201-4444-b128-a7dbd3570de4
DTSTART:20260426T100000Z
DTEND:20260426T220000Z
LOCATION:Localisation Halle Guy Lachaud 07100 Annonay
CATEGORIES:Sportif
STATUS:
URL;VALUE=URI:https://www.hbca07.fr/evenements/2026/04/26/15m-vs-tainviontournon-2443086
END:VEVENT
END:VCALENDAR
