BEGIN:VCALENDAR
VERSION:2.0
PRODID:-//hacksw/handcal//NONSGML v1.0//EN
BEGIN:VEVENT
SUMMARY:Echalas vs SM1
UID:fda1ff6e-0ee9-4800-9fbc-c2830bf52d0f
DTSTART:20260425T183000Z
DTEND:20260425T220000Z
LOCATION:Localisation   
CATEGORIES:Sportif
STATUS:
URL;VALUE=URI:https://www.hbca07.fr/evenements/2026/04/25/echalas-vs-sm1-2443081
END:VEVENT
END:VCALENDAR
